Workbook

Sheet Limerick
AJ5: Women % | AN5: Men %
Y6: Check for | Z6: Fix for Row | AF6: Total | AG6: Women | AH6: Women % | AI6: Women | AJ6: of Party | AK6: Men | AL6: Men % | AM6: Men | AN6: of Party
A7: NAMES OF CANDIDATES (15 No.) | B7: Gender | C7: First Count | D7: Second Count | E7: Third Count | F7: Fourth Count | G7: Fifth Count | H7: Sixth Count | I7: Seventh Count | J7: Eighth Count | K7: Ninth Count | L7: Tenth Count | M7: Eleventh Count | N7: Twelfth Count | Y7: Elected or | Z7: Concatenation | AF7: Candidates | AG7: Candidates | AH7: of Party | AI7: Elected | AJ7: Elected | AK7: Candidates | AL7: of Party | AM7: Elected | AN7: Elected
C8: Number of Votes | D8: Transfer of Ó Móráin, C's Votes and Result | E8: Transfer of Fahy, R's Votes and Result | F8: Transfer of Uunk, G's Votes and Result | G8: Transfer of Keyes, L's and Ní Chatháin, C's Votes and Result | H8: Transfer of Leddin, B's Votes and Result | I8: Transfer of Beasley, S's Votes and Result | J8: Transfer of Sheehan, C's Votes and Result | K8: Transfer of Daly, F's and O'Donovan, E's Votes and Result | L8: Transfer of Quinlivan, M's Votes and Result | M8: Transfer of Butler, D's Votes and Result | N8: Transfer of Ryan, D's Votes and Result | X8: Party Code | Y8: Excluded | Z8: in Column A | AC8: =SUMIFS($C$10:$C$284, $X$10:$X$284, AD8) -> 11785 | AD8: FF | AE8: Fianna Fáil | AF8: =AG8+AK8 -> 1 | AG8: =COUNTIFS($X$10:$X$283, AD8,$B$10:$B$283,"F") -> 1 | AH8: =IFERROR(AG8/AF8,0) -> 1 | AI8: =COUNTIFS($X$10:$X$283, AD8,$B$10:$B$283,"F",$Z$10:$Z$283,"Elected") -> 0 | AJ8: =IFERROR(AI8/AF8,0) -> 0 | AK8: =COUNTIFS($X$10:$X$283, AD8,$B$10:$B$283,"M") -> 0 | AL8: =IFERROR(AK8/AF8,0) -> 0 | AM8: =COUNTIFS($X$10:$X$283, AD8,$B$10:$B$283,"M",$Z$10:$Z$283,"Elected") -> 0 | AN8: =IFERROR(AM8/AF8,0) -> 0
A9: Beasley, Sarah (ANT) | B9: F | C9: 2635 | D9: 27 | E9: 36 | F9: 40 | G9: 73 | H9: 48 | I9: -2859 | J9: 0 | K9: 0 | L9: 0 | M9: 0 | N9: 0 | X9: =LEFT(MID(A9,FIND("(",A9)+1,LEN(A9)),FIND(")",MID(A9,FIND("(",A9)+1,LEN(A9)))-1) -> ANT | Z9: =Y10 -> Excluded | AC9: =SUMIFS($C$10:$C$284, $X$10:$X$284, AD9) -> 10190 | AD9: FG | AE9: Fine Gael | AF9: =AG9+AK9 -> 1 | AG9: =COUNTIFS($X$10:$X$283, AD9,$B$10:$B$283,"F") -> 0 | AH9: =IFERROR(AG9/AF9,0) -> 0 | AI9: =COUNTIFS($X$10:$X$283, AD9,$B$10:$B$283,"F",$Z$10:$Z$283,"Elected") -> 0 | AJ9: =IFERROR(AI9/AF9,0) -> 0 | AK9: =COUNTIFS($X$10:$X$283, AD9,$B$10:$B$283,"M") -> 1 | AL9: =IFERROR(AK9/AF9,0) -> 1 | AM9: =COUNTIFS($X$10:$X$283, AD9,$B$10:$B$283,"M",$Z$10:$Z$283,"Elected") -> 0 | AN9: =IFERROR(AM9/AF9,0) -> 0
C10: 240 | D10: =C9+D9 -> 2662 | E10: =D10+E9 -> 2698 | F10: =E10+F9 -> 2738 | G10: =F10+G9 -> 2811 | H10: =G10+H9 -> 2859 | I10: 0 | J10: 0 | K10: 0 | L10: 0 | M10: 0 | N10: 0 | Y10: =IF(EXACT(A9,UPPER(A9)),"Elected","Excluded") -> Excluded | AC10: =SUMIFS($C$10:$C$284, $X$10:$X$284, AD10) -> 8331 | AD10: SF | AE10: Sinn Féin | AF10: =AG10+AK10 -> 1 | AG10: =COUNTIFS($X$10:$X$283, AD10,$B$10:$B$283,"F") -> 0 | AH10: =IFERROR(AG10/AF10,0) -> 0 | AI10: =COUNTIFS($X$10:$X$283, AD10,$B$10:$B$283,"F",$Z$10:$Z$283,"Elected") -> 0 | AJ10: =IFERROR(AI10/AF10,0) -> 0 | AK10: =COUNTIFS($X$10:$X$283, AD10,$B$10:$B$283,"M") -> 1 | AL10: =IFERROR(AK10/AF10,0) -> 1 | AM10: =COUNTIFS($X$10:$X$283, AD10,$B$10:$B$283,"M",$Z$10:$Z$283,"Elected") -> 0 | AN10: =IFERROR(AM10/AF10,0) -> 0
A11: Butler, Daniel (FG) | B11: M | C11: 10190 | D11: 59 | E11: 25 | F11: 42 | G11: 104 | H11: 311 | I11: 231 | J11: 375 | K11: 1048 | L11: 1247 | M11: -13632 | N11: 0 | X11: =LEFT(MID(A11,FIND("(",A11)+1,LEN(A11)),FIND(")",MID(A11,FIND("(",A11)+1,LEN(A11)))-1) -> FG | Z11: =Y12 -> Excluded | AC11: =SUMIFS($C$10:$C$284, $X$10:$X$284, AD11) -> 2390 | AD11: LAB | AE11: LABour | AF11: =AG11+AK11 -> 1 | AG11: =COUNTIFS($X$10:$X$283, AD11,$B$10:$B$283,"F") -> 0 | AH11: =IFERROR(AG11/AF11,0) -> 0 | AI11: =COUNTIFS($X$10:$X$283, AD11,$B$10:$B$283,"F",$Z$10:$Z$283,"Elected") -> 0 | AJ11: =IFERROR(AI11/AF11,0) -> 0 | AK11: =COUNTIFS($X$10:$X$283, AD11,$B$10:$B$283,"M") -> 1 | AL11: =IFERROR(AK11/AF11,0) -> 1 | AM11: =COUNTIFS($X$10:$X$283, AD11,$B$10:$B$283,"M",$Z$10:$Z$283,"Elected") -> 0 | AN11: =IFERROR(AM11/AF11,0) -> 0
C12: 893 | D12: 10249 | E12: =D12+E11 -> 10274 | F12: =E12+F11 -> 10316 | G12: =F12+G11 -> 10420 | H12: =G12+H11 -> 10731 | I12: =H12+I11 -> 10962 | J12: =I12+J11 -> 11337 | K12: =J12+K11 -> 12385 | L12: =K12+L11 -> 13632 | M12: 0 | N12: 0 | Y12: =IF(EXACT(A11,UPPER(A11)),"Elected","Excluded") -> Excluded | AC12: =SUMIFS($C$10:$C$284, $X$10:$X$284, AD12) -> 2384 | AD12: SD | AE12: Social Democrats | AF12: =AG12+AK12 -> 1 | AG12: =COUNTIFS($X$10:$X$283, AD12,$B$10:$B$283,"F") -> 0 | AH12: =IFERROR(AG12/AF12,0) -> 0 | AI12: =COUNTIFS($X$10:$X$283, AD12,$B$10:$B$283,"F",$Z$10:$Z$283,"Elected") -> 0 | AJ12: =IFERROR(AI12/AF12,0) -> 0 | AK12: =COUNTIFS($X$10:$X$283, AD12,$B$10:$B$283,"M") -> 1 | AL12: =IFERROR(AK12/AF12,0) -> 1 | AM12: =COUNTIFS($X$10:$X$283, AD12,$B$10:$B$283,"M",$Z$10:$Z$283,"Elected") -> 0 | AN12: =IFERROR(AM12/AF12,0) -> 0
A13: Daly, Frankie (NON-P) | B13: M | C13: 4574 | D13: 23 | E13: 48 | F13: 41 | G13: 129 | H13: 92 | I13: 503 | J13: 279 | K13: -5689 | L13: 0 | M13: 0 | N13: 0 | X13: =LEFT(MID(A13,FIND("(",A13)+1,LEN(A13)),FIND(")",MID(A13,FIND("(",A13)+1,LEN(A13)))-1) -> NON-P | Z13: =Y14 -> Excluded | AC13: =SUMIFS($C$10:$C$284, $X$10:$X$284, AD13) -> 2303 | AD13: Grn | AE13: Green | AF13: =AG13+AK13 -> 1 | AG13: =COUNTIFS($X$10:$X$283, AD13,$B$10:$B$283,"F") -> 0 | AH13: =IFERROR(AG13/AF13,0) -> 0 | AI13: =COUNTIFS($X$10:$X$283, AD13,$B$10:$B$283,"F",$Z$10:$Z$283,"Elected") -> 0 | AJ13: =IFERROR(AI13/AF13,0) -> 0 | AK13: =COUNTIFS($X$10:$X$283, AD13,$B$10:$B$283,"M") -> 1 | AL13: =IFERROR(AK13/AF13,0) -> 1 | AM13: =COUNTIFS($X$10:$X$283, AD13,$B$10:$B$283,"M",$Z$10:$Z$283,"Elected") -> 0 | AN13: =IFERROR(AM13/AF13,0) -> 0
C14: 348 | D14: 4597 | E14: =D14+E13 -> 4645 | F14: =E14+F13 -> 4686 | G14: =F14+G13 -> 4815 | H14: =G14+H13 -> 4907 | I14: =H14+I13 -> 5410 | J14: =I14+J13 -> 5689 | K14: 0 | L14: 0 | M14: 0 | N14: 0 | Y14: =IF(EXACT(A13,UPPER(A13)),"Elected","Excluded") -> Excluded | AC14: =SUMIFS($C$10:$C$284, $X$10:$X$284, AD14) -> 0 | AD14: INDI | AE14: Independent Ireland | AF14: =AG14+AK14 -> 0 | AG14: =COUNTIFS($X$10:$X$283, AD14,$B$10:$B$283,"F") -> 0 | AH14: =IFERROR(AG14/AF14,0) -> 0 | AI14: =COUNTIFS($X$10:$X$283, AD14,$B$10:$B$283,"F",$Z$10:$Z$283,"Elected") -> 0 | AJ14: =IFERROR(AI14/AF14,0) -> 0 | AK14: =COUNTIFS($X$10:$X$283, AD14,$B$10:$B$283,"M") -> 0 | AL14: =IFERROR(AK14/AF14,0) -> 0 | AM14: =COUNTIFS($X$10:$X$283, AD14,$B$10:$B$283,"M",$Z$10:$Z$283,"Elected") -> 0 | AN14: =IFERROR(AM14/AF14,0) -> 0
A15: Fahy, Ruairí (PBP) | B15: M | C15: 689 | D15: 3 | E15: 692 | F15: 0 | G15: 0 | H15: 0 | I15: 0 | J15: 0 | K15: 0 | L15: 0 | M15: 0 | N15: 0 | X15: =LEFT(MID(A15,FIND("(",A15)+1,LEN(A15)),FIND(")",MID(A15,FIND("(",A15)+1,LEN(A15)))-1) -> PBP | Z15: =Y16 -> Excluded | AC15: =SUMIFS($C$10:$C$284, $X$10:$X$284, AD15) -> 689 | AD15: PBP | AE15: People Before Profit / Solidarity | AF15: =AG15+AK15 -> 1 | AG15: =COUNTIFS($X$10:$X$283, AD15,$B$10:$B$283,"F") -> 0 | AH15: =IFERROR(AG15/AF15,0) -> 0 | AI15: =COUNTIFS($X$10:$X$283, AD15,$B$10:$B$283,"F",$Z$10:$Z$283,"Elected") -> 0 | AJ15: =IFERROR(AI15/AF15,0) -> 0 | AK15: =COUNTIFS($X$10:$X$283, AD15,$B$10:$B$283,"M") -> 1 | AL15: =IFERROR(AK15/AF15,0) -> 1 | AM15: =COUNTIFS($X$10:$X$283, AD15,$B$10:$B$283,"M",$Z$10:$Z$283,"Elected") -> 0 | AN15: =IFERROR(AM15/AF15,0) -> 0
C16: 590 | D16: 692 | E16: 0 | F16: 0 | G16: 0 | H16: 0 | I16: 0 | J16: 0 | K16: 0 | L16: 0 | M16: 0 | N16: 0 | Y16: =IF(EXACT(A15,UPPER(A15)),"Elected","Excluded") -> Excluded | AC16: =SUMIFS($C$9:$C$284, $X$9:$X$284, AD16) -> 2635 | AD16: ANT | AE16: Aontú | AF16: =AG16+AK16 -> 1 | AG16: =COUNTIFS($X$9:$X$283, AD16,$B$9:$B$283,"F") -> 1 | AH16: =IFERROR(AG16/AF16,0) -> 1 | AI16: =COUNTIFS($X$10:$X$283, AD16,$B$10:$B$283,"F",$Z$10:$Z$283,"Elected") -> 0 | AJ16: =IFERROR(AI16/AF16,0) -> 0 | AK16: =COUNTIFS($X$10:$X$283, AD16,$B$10:$B$283,"M") -> 0 | AL16: =IFERROR(AK16/AF16,0) -> 0 | AM16: =COUNTIFS($X$10:$X$283, AD16,$B$10:$B$283,"M",$Z$10:$Z$283,"Elected") -> 0 | AN16: =IFERROR(AM16/AF16,0) -> 0
A17: Keyes, Laura (NON-P) | B17: F | C17: 1079 | D17: 10 | E17: 33 | F17: 43 | G17: -1165 | H17: 0 | I17: 0 | J17: 0 | K17: 0 | L17: 0 | M17: 0 | N17: 0 | X17: =LEFT(MID(A17,FIND("(",A17)+1,LEN(A17)),FIND(")",MID(A17,FIND("(",A17)+1,LEN(A17)))-1) -> NON-P | Z17: =Y18 -> Excluded | AC17: =SUMIFS($C$10:$C$284, $X$10:$X$284, AD17) -> 0 | AE17: Wexford Ind. Alliance[c] | AF17: =AG17+AK17 -> 0 | AG17: =COUNTIFS($X$10:$X$283, AD17,$B$10:$B$283,"F") -> 0 | AH17: =IFERROR(AG17/AF17,0) -> 0 | AI17: =COUNTIFS($X$10:$X$283, AD17,$B$10:$B$283,"F",$Z$10:$Z$283,"Elected") -> 0 | AJ17: =IFERROR(AI17/AF17,0) -> 0 | AK17: =COUNTIFS($X$10:$X$283, AD17,$B$10:$B$283,"M") -> 0 | AL17: =IFERROR(AK17/AF17,0) -> 0 | AM17: =COUNTIFS($X$10:$X$283, AD17,$B$10:$B$283,"M",$Z$10:$Z$283,"Elected") -> 0 | AN17: =IFERROR(AM17/AF17,0) -> 0
C18: 238 | D18: 1089 | E18: =E17+D18 -> 1122 | F18: =F17+E18 -> 1165 | G18: 0 | H18: 0 | I18: 0 | J18: 0 | K18: 0 | L18: 0 | M18: 0 | N18: 0 | Y18: =IF(EXACT(A17,UPPER(A17)),"Elected","Excluded") -> Excluded | AC18: =SUMIFS($C$10:$C$284, $X$10:$X$284, AD18) -> 0 | AD18: 100R | AE18: 100% Redress | AF18: =AG18+AK18 -> 0 | AG18: =COUNTIFS($X$10:$X$283, AD18,$B$10:$B$283,"F") -> 0 | AH18: =IFERROR(AG18/AF18,0) -> 0 | AI18: =COUNTIFS($X$10:$X$283, AD18,$B$10:$B$283,"F",$Z$10:$Z$283,"Elected") -> 0 | AJ18: =IFERROR(AI18/AF18,0) -> 0 | AK18: =COUNTIFS($X$10:$X$283, AD18,$B$10:$B$283,"M") -> 0 | AL18: =IFERROR(AK18/AF18,0) -> 0 | AM18: =COUNTIFS($X$10:$X$283, AD18,$B$10:$B$283,"M",$Z$10:$Z$283,"Elected") -> 0 | AN18: =IFERROR(AM18/AF18,0) -> 0
A19: Leddin, Brian (GRN) | B19: M | C19: 2303 | D19: 10 | E19: 55 | F19: 41 | G19: 169 | H19: -2578 | I19: 0 | J19: 0 | K19: 0 | L19: 0 | M19: 0 | N19: 0 | X19: =LEFT(MID(A19,FIND("(",A19)+1,LEN(A19)),FIND(")",MID(A19,FIND("(",A19)+1,LEN(A19)))-1) -> GRN | Z19: =Y20 -> Excluded | AC19: =SUMIFS($C$10:$C$284, $X$10:$X$284, AD19) -> 0 | AD19: IFP | AE19: Irish Freedom Party | AF19: =AG19+AK19 -> 0 | AG19: =COUNTIFS($X$10:$X$283, AD19,$B$10:$B$283,"F") -> 0 | AH19: =IFERROR(AG19/AF19,0) -> 0 | AI19: =COUNTIFS($X$10:$X$283, AD19,$B$10:$B$283,"F",$Z$10:$Z$283,"Elected") -> 0 | AJ19: =IFERROR(AI19/AF19,0) -> 0 | AK19: =COUNTIFS($X$10:$X$283, AD19,$B$10:$B$283,"M") -> 0 | AL19: =IFERROR(AK19/AF19,0) -> 0 | AM19: =COUNTIFS($X$10:$X$283, AD19,$B$10:$B$283,"M",$Z$10:$Z$283,"Elected") -> 0 | AN19: =IFERROR(AM19/AF19,0) -> 0
C20: 1149 | D20: 2313 | E20: =D20+E19 -> 2368 | F20: =E20+F19 -> 2409 | G20: =F20+G19 -> 2578 | H20: 0 | I20: 0 | J20: 0 | K20: 0 | L20: 0 | M20: 0 | N20: 0 | Y20: =IF(EXACT(A19,UPPER(A19)),"Elected","Excluded") -> Excluded | AC20: =SUMIFS($C$10:$C$284, $X$10:$X$284, AD20) -> 0 | AD20: TNP | AE20: National Party | AF20: =AG20+AK20 -> 0 | AG20: =COUNTIFS($X$10:$X$283, AD20,$B$10:$B$283,"F") -> 0 | AH20: =IFERROR(AG20/AF20,0) -> 0 | AI20: =COUNTIFS($X$10:$X$283, AD20,$B$10:$B$283,"F",$Z$10:$Z$283,"Elected") -> 0 | AJ20: =IFERROR(AI20/AF20,0) -> 0 | AK20: =COUNTIFS($X$10:$X$283, AD20,$B$10:$B$283,"M") -> 0 | AL20: =IFERROR(AK20/AF20,0) -> 0 | AM20: =COUNTIFS($X$10:$X$283, AD20,$B$10:$B$283,"M",$Z$10:$Z$283,"Elected") -> 0 | AN20: =IFERROR(AM20/AF20,0) -> 0
A21: MORAN, JOHN (NON-P) | B21: M | C21: 18308 | D21: 55 | E21: 34 | F21: 65 | G21: 156 | H21: 462 | I21: 270 | J21: 369 | K21: 1263 | L21: 1308 | M21: 2668 | N21: 3493 | X21: =LEFT(MID(A21,FIND("(",A21)+1,LEN(A21)),FIND(")",MID(A21,FIND("(",A21)+1,LEN(A21)))-1) -> NON-P | Z21: =Y22 -> Elected | AC21: =SUMIFS($C$10:$C$284, $X$10:$X$284, AD21) -> 0 | AD21: I4C | AE21: Inds. 4 Change | AF21: =AG21+AK21 -> 0 | AG21: =COUNTIFS($X$10:$X$283, AD21,$B$10:$B$283,"F") -> 0 | AH21: =IFERROR(AG21/AF21,0) -> 0 | AI21: =COUNTIFS($X$10:$X$283, AD21,$B$10:$B$283,"F",$Z$10:$Z$283,"Elected") -> 0 | AJ21: =IFERROR(AI21/AF21,0) -> 0 | AK21: =COUNTIFS($X$10:$X$283, AD21,$B$10:$B$283,"M") -> 0 | AL21: =IFERROR(AK21/AF21,0) -> 0 | AM21: =COUNTIFS($X$10:$X$283, AD21,$B$10:$B$283,"M",$Z$10:$Z$283,"Elected") -> 0 | AN21: =IFERROR(AM21/AF21,0) -> 0
C22: 132 | D22: =D21+C21 -> 18363 | E22: =E21+D22 -> 18397 | F22: =F21+E22 -> 18462 | G22: =G21+F22 -> 18618 | H22: =H21+G22 -> 19080 | I22: =I21+H22 -> 19350 | J22: =J21+I22 -> 19719 | K22: =K21+J22 -> 20982 | L22: =L21+K22 -> 22290 | ... N22: =N21+M22 -> 28451 | Y22: =IF(EXACT(A21,UPPER(A21)),"Elected","Excluded") -> Elected | AC22: =SUMIFS($C$10:$C$284, $X$10:$X$284, AD22) -> 0 | AD22: RTC | AE22: Right to Change | AF22: =AG22+AK22 -> 0 | AG22: =COUNTIFS($X$10:$X$283, AD22,$B$10:$B$283,"F") -> 0 | AH22: =IFERROR(AG22/AF22,0) -> 0 | AI22: =COUNTIFS($X$10:$X$283, AD22,$B$10:$B$283,"F",$Z$10:$Z$283,"Elected") -> 0 | AJ22: =IFERROR(AI22/AF22,0) -> 0 | AK22: =COUNTIFS($X$10:$X$283, AD22,$B$10:$B$283,"M") -> 0 | AL22: =IFERROR(AK22/AF22,0) -> 0 | AM22: =COUNTIFS($X$10:$X$283, AD22,$B$10:$B$283,"M",$Z$10:$Z$283,"Elected") -> 0 | AN22: =IFERROR(AM22/AF22,0) -> 0
A23: Ní Chatháin, Catríona (NON-P) | B23: F | C23: 886 | D23: 10 | E23: 94 | F23: 26 | G23: -1016 | H23: 0 | I23: 0 | J23: 0 | K23: 0 | L23: 0 | M23: 0 | N23: 0 | X23: =LEFT(MID(A23,FIND("(",A23)+1,LEN(A23)),FIND(")",MID(A23,FIND("(",A23)+1,LEN(A23)))-1) -> NON-P | Z23: =Y24 -> Excluded | AC23: =SUMIFS($C$10:$C$284, $X$10:$X$284, AD23) -> 0 | AE23: Workers and Unemployed | AF23: =AG23+AK23 -> 0 | AG23: =COUNTIFS($X$10:$X$283, AD23,$B$10:$B$283,"F") -> 0 | AH23: =IFERROR(AG23/AF23,0) -> 0 | AI23: =COUNTIFS($X$10:$X$283, AD23,$B$10:$B$283,"F",$Z$10:$Z$283,"Elected") -> 0 | AJ23: =IFERROR(AI23/AF23,0) -> 0 | AK23: =COUNTIFS($X$10:$X$283, AD23,$B$10:$B$283,"M") -> 0 | AL23: =IFERROR(AK23/AF23,0) -> 0 | AM23: =COUNTIFS($X$10:$X$283, AD23,$B$10:$B$283,"M",$Z$10:$Z$283,"Elected") -> 0 | AN23: =IFERROR(AM23/AF23,0) -> 0
C24: 425 | D24: =D23+C23 -> 896 | E24: =E23+D24 -> 990 | F24: =F23+E24 -> 1016 | G24: 0 | H24: 0 | I24: 0 | J24: 0 | K24: 0 | L24: 0 | M24: 0 | N24: 0 | Y24: =IF(EXACT(A23,UPPER(A23)),"Elected","Excluded") -> Excluded | AC24: =SUMIFS($C$10:$C$284, $X$10:$X$284, AD24) -> 0 | AE24: Kerry Ind. Alliance | AF24: =AG24+AK24 -> 0 | AG24: =COUNTIFS($X$10:$X$283, AD24,$B$10:$B$283,"F") -> 0 | AH24: =IFERROR(AG24/AF24,0) -> 0 | AI24: =COUNTIFS($X$10:$X$283, AD24,$B$10:$B$283,"F",$Z$10:$Z$283,"Elected") -> 0 | AJ24: =IFERROR(AI24/AF24,0) -> 0 | AK24: =COUNTIFS($X$10:$X$283, AD24,$B$10:$B$283,"M") -> 0 | AL24: =IFERROR(AK24/AF24,0) -> 0 | AM24: =COUNTIFS($X$10:$X$283, AD24,$B$10:$B$283,"M",$Z$10:$Z$283,"Elected") -> 0 | AN24: =IFERROR(AM24/AF24,0) -> 0
A25: O'Donnell, Helen (NON-P) | B25: F | C25: 12903 | D25: 88 | E25: 25 | F25: 45 | G25: 214 | H25: 313 | I25: 350 | J25: 350 | K25: 1101 | L25: 1299 | M25: 2665 | N25: 4476 | X25: =LEFT(MID(A25,FIND("(",A25)+1,LEN(A25)),FIND(")",MID(A25,FIND("(",A25)+1,LEN(A25)))-1) -> NON-P | Z25: =Y26 -> Excluded | AC25: =SUMIFS($C$10:$C$284, $X$10:$X$284, AD25) -> 0 | AD25: IL | AE25: Independent Left | AF25: =AG25+AK25 -> 0 | AG25: =COUNTIFS($X$10:$X$283, AD25,$B$10:$B$283,"F") -> 0 | AH25: =IFERROR(AG25/AF25,0) -> 0 | AI25: =COUNTIFS($X$10:$X$283, AD25,$B$10:$B$283,"F",$Z$10:$Z$283,"Elected") -> 0 | AJ25: =IFERROR(AI25/AF25,0) -> 0 | AK25: =COUNTIFS($X$10:$X$283, AD25,$B$10:$B$283,"M") -> 0 | AL25: =IFERROR(AK25/AF25,0) -> 0 | AM25: =COUNTIFS($X$10:$X$283, AD25,$B$10:$B$283,"M",$Z$10:$Z$283,"Elected") -> 0 | AN25: =IFERROR(AM25/AF25,0) -> 0
C26: 156 | D26: =C25+D25 -> 12991 | E26: =E25+D26 -> 13016 | F26: =F25+E26 -> 13061 | G26: =G25+F26 -> 13275 | H26: =H25+G26 -> 13588 | I26: =I25+H26 -> 13938 | J26: =J25+I26 -> 14288 | K26: =K25+J26 -> 15389 | L26: =L25+K26 -> 16688 | ... N26: =N25+M26 -> 23829 | Y26: =IF(EXACT(A25,UPPER(A25)),"Elected","Excluded") -> Excluded | AC26: =SUMIFS($C$10:$C$284, $X$10:$X$284, AD26) -> 0 | AE26: Republican Sinn Féin[c] | AF26: =AG26+AK26 -> 0 | AG26: =COUNTIFS($X$10:$X$283, AD26,$B$10:$B$283,"F") -> 0 | AH26: =IFERROR(AG26/AF26,0) -> 0 | AI26: =COUNTIFS($X$10:$X$283, AD26,$B$10:$B$283,"F",$Z$10:$Z$283,"Elected") -> 0 | AJ26: =IFERROR(AI26/AF26,0) -> 0 | AK26: =COUNTIFS($X$10:$X$283, AD26,$B$10:$B$283,"M") -> 0 | AL26: =IFERROR(AK26/AF26,0) -> 0 | AM26: =COUNTIFS($X$10:$X$283, AD26,$B$10:$B$283,"M",$Z$10:$Z$283,"Elected") -> 0 | AN26: =IFERROR(AM26/AF26,0) -> 0
A27: O'Donovan, Elisa (SD) | B27: M | C27: 2384 | D27: 17 | E27: 77 | F27: 48 | G27: 535 | H27: 275 | I27: 103 | J27: 360 | K27: -3799 | L27: 0 | M27: 0 | N27: 0 | X27: =LEFT(MID(A27,FIND("(",A27)+1,LEN(A27)),FIND(")",MID(A27,FIND("(",A27)+1,LEN(A27)))-1) -> SD | Z27: =Y28 -> Excluded | AC27: =SUMIFS($C$10:$C$284, $X$10:$X$284, AD27) -> 0 | AD27: TIP | AE27: The Irish People | AF27: =AG27+AK27 -> 0 | AG27: =COUNTIFS($X$10:$X$283, AD27,$B$10:$B$283,"F") -> 0 | AH27: =IFERROR(AG27/AF27,0) -> 0 | AI27: =COUNTIFS($X$10:$X$283, AD27,$B$10:$B$283,"F",$Z$10:$Z$283,"Elected") -> 0 | AJ27: =IFERROR(AI27/AF27,0) -> 0 | AK27: =COUNTIFS($X$10:$X$283, AD27,$B$10:$B$283,"M") -> 0 | AL27: =IFERROR(AK27/AF27,0) -> 0 | AM27: =COUNTIFS($X$10:$X$283, AD27,$B$10:$B$283,"M",$Z$10:$Z$283,"Elected") -> 0 | AN27: =IFERROR(AM27/AF27,0) -> 0
C28: 562 | D28: =D27+C27 -> 2401 | E28: =E27+D28 -> 2478 | F28: =F27+E28 -> 2526 | G28: =G27+F28 -> 3061 | H28: =H27+G28 -> 3336 | I28: =I27+H28 -> 3439 | J28: =J27+I28 -> 3799 | K28: 0 | L28: 0 | M28: 0 | N28: 0 | Y28: =IF(EXACT(A27,UPPER(A27)),"Elected","Excluded") -> Excluded | AC28: =SUMIFS($C$10:$C$284, $X$10:$X$284, AD28) -> 0 | AD28: IF | AE28: Ireland First | AF28: =AG28+AK28 -> 0 | AG28: =COUNTIFS($X$10:$X$283, AD28,$B$10:$B$283,"F") -> 0 | AH28: =IFERROR(AG28/AF28,0) -> 0 | AI28: =COUNTIFS($X$10:$X$283, AD28,$B$10:$B$283,"F",$Z$10:$Z$283,"Elected") -> 0 | AJ28: =IFERROR(AI28/AF28,0) -> 0 | AK28: =COUNTIFS($X$10:$X$283, AD28,$B$10:$B$283,"M") -> 0 | AL28: =IFERROR(AK28/AF28,0) -> 0 | AM28: =COUNTIFS($X$10:$X$283, AD28,$B$10:$B$283,"M",$Z$10:$Z$283,"Elected") -> 0 | AN28: =IFERROR(AM28/AF28,0) -> 0
A29: Ó'Móráin, Colm (NON-P) | B29: M | C29: 530 | D29: -530 | E29: 0 | F29: 0 | G29: 0 | H29: 0 | I29: 0 | J29: 0 | K29: 0 | L29: 0 | M29: 0 | N29: 0 | X29: =LEFT(MID(A29,FIND("(",A29)+1,LEN(A29)),FIND(")",MID(A29,FIND("(",A29)+1,LEN(A29)))-1) -> NON-P | Z29: =Y30 -> Excluded | AC29: =SUMIFS($C$10:$C$284, $X$10:$X$284, AD29) -> 0 | AD29: WP | AE29: Workers' Party | AF29: =AG29+AK29 -> 0 | AG29: =COUNTIFS($X$10:$X$283, AD29,$B$10:$B$283,"F") -> 0 | AH29: =IFERROR(AG29/AF29,0) -> 0 | AI29: =COUNTIFS($X$10:$X$283, AD29,$B$10:$B$283,"F",$Z$10:$Z$283,"Elected") -> 0 | AJ29: =IFERROR(AI29/AF29,0) -> 0 | AK29: =COUNTIFS($X$10:$X$283, AD29,$B$10:$B$283,"M") -> 0 | AL29: =IFERROR(AK29/AF29,0) -> 0 | AM29: =COUNTIFS($X$10:$X$283, AD29,$B$10:$B$283,"M",$Z$10:$Z$283,"Elected") -> 0 | AN29: =IFERROR(AM29/AF29,0) -> 0
C30: 157 | D30: 0 | E30: 0 | F30: 0 | G30: 0 | H30: 0 | I30: 0 | J30: 0 | K30: 0 | L30: 0 | M30: 0 | N30: 0 | Y30: =IF(EXACT(A29,UPPER(A29)),"Elected","Excluded") -> Excluded | AC30: =SUMIFS($C$10:$C$284, $X$10:$X$284, AD30) -> 0 | AE30: Rabharta[d] | AF30: =AG30+AK30 -> 0 | AG30: =COUNTIFS($X$10:$X$283, AD30,$B$10:$B$283,"F") -> 0 | AH30: =IFERROR(AG30/AF30,0) -> 0 | AI30: =COUNTIFS($X$10:$X$283, AD30,$B$10:$B$283,"F",$Z$10:$Z$283,"Elected") -> 0 | AJ30: =IFERROR(AI30/AF30,0) -> 0 | AK30: =COUNTIFS($X$10:$X$283, AD30,$B$10:$B$283,"M") -> 0 | AL30: =IFERROR(AK30/AF30,0) -> 0 | AM30: =COUNTIFS($X$10:$X$283, AD30,$B$10:$B$283,"M",$Z$10:$Z$283,"Elected") -> 0 | AN30: =IFERROR(AM30/AF30,0) -> 0
A31: Quinlivan, Maurice (SF) | B31: M | C31: 8331 | D31: 25 | E31: 82 | F31: 71 | G31: 184 | H31: 152 | I31: 311 | J31: 372 | K31: 2043 | L31: -11571 | M31: 0 | N31: 0 | X31: =LEFT(MID(A31,FIND("(",A31)+1,LEN(A31)),FIND(")",MID(A31,FIND("(",A31)+1,LEN(A31)))-1) -> SF | Z31: =Y32 -> Excluded | AC31: =SUMIFS($C$10:$C$284, $X$10:$X$284, AD31) -> 0 | AE31: Glór - Voice of the People | AF31: =AG31+AK31 -> 0 | AG31: =COUNTIFS($X$10:$X$283, AD31,$B$10:$B$283,"F") -> 0 | AH31: =IFERROR(AG31/AF31,0) -> 0 | AI31: =COUNTIFS($X$10:$X$283, AD31,$B$10:$B$283,"F",$Z$10:$Z$283,"Elected") -> 0 | AJ31: =IFERROR(AI31/AF31,0) -> 0 | AK31: =COUNTIFS($X$10:$X$283, AD31,$B$10:$B$283,"M") -> 0 | AL31: =IFERROR(AK31/AF31,0) -> 0 | AM31: =COUNTIFS($X$10:$X$283, AD31,$B$10:$B$283,"M",$Z$10:$Z$283,"Elected") -> 0 | AN31: =IFERROR(AM31/AF31,0) -> 0
C32: 398 | D32: =D31+C31 -> 8356 | E32: =E31+D32 -> 8438 | F32: =F31+E32 -> 8509 | G32: =G31+F32 -> 8693 | H32: =H31+G32 -> 8845 | I32: =I31+H32 -> 9156 | J32: =J31+I32 -> 9528 | K32: =K31+J32 -> 11571 | L32: 0 | M32: 0 | N32: 0 | Y32: =IF(EXACT(A31,UPPER(A31)),"Elected","Excluded") -> Excluded | AC32: =SUMIFS($C$10:$C$284, $X$10:$X$284, AD32) -> 758 | AD32: PAW | AE32: Party for Animal Welfare | AF32: =AG32+AK32 -> 1 | AG32: =COUNTIFS($X$10:$X$283, AD32,$B$10:$B$283,"F") -> 0 | AH32: =IFERROR(AG32/AF32,0) -> 0 | AI32: =COUNTIFS($X$10:$X$283, AD32,$B$10:$B$283,"F",$Z$10:$Z$283,"Elected") -> 0 | AJ32: =IFERROR(AI32/AF32,0) -> 0 | AK32: =COUNTIFS($X$10:$X$283, AD32,$B$10:$B$283,"M") -> 1 | AL32: =IFERROR(AK32/AF32,0) -> 1 | AM32: =COUNTIFS($X$10:$X$283, AD32,$B$10:$B$283,"M",$Z$10:$Z$283,"Elected") -> 0 | AN32: =IFERROR(AM32/AF32,0) -> 0
A33: Ryan, Dee (FF) | B33: F | C33: 11785 | D33: 58 | E33: 21 | F33: 75 | G33: 142 | H33: 289 | I33: 170 | J33: 397 | K33: 1028 | L33: 1508 | M33: 3402 | N33: -18875 | X33: =LEFT(MID(A33,FIND("(",A33)+1,LEN(A33)),FIND(")",MID(A33,FIND("(",A33)+1,LEN(A33)))-1) -> FF | Z33: =Y34 -> Excluded | AC33: =SUMIFS($C$10:$C$284, $X$10:$X$284, AD33) -> 0 | AD33: FA | AE33: Farmers' Alliance | AF33: =AG33+AK33 -> 0 | AG33: =COUNTIFS($X$10:$X$283, AD33,$B$10:$B$283,"F") -> 0 | AH33: =IFERROR(AG33/AF33,0) -> 0 | AI33: =COUNTIFS($X$10:$X$283, AD33,$B$10:$B$283,"F",$Z$10:$Z$283,"Elected") -> 0 | AJ33: =IFERROR(AI33/AF33,0) -> 0 | AK33: =COUNTIFS($X$10:$X$283, AD33,$B$10:$B$283,"M") -> 0 | AL33: =IFERROR(AK33/AF33,0) -> 0 | AM33: =COUNTIFS($X$10:$X$283, AD33,$B$10:$B$283,"M",$Z$10:$Z$283,"Elected") -> 0 | AN33: =IFERROR(AM33/AF33,0) -> 0
C34: 176 | D34: =D33+C33 -> 11843 | E34: =E33+D34 -> 11864 | F34: =F33+E34 -> 11939 | G34: =G33+F34 -> 12081 | H34: =H33+G34 -> 12370 | I34: =I33+H34 -> 12540 | J34: =J33+I34 -> 12937 | K34: =K33+J34 -> 13965 | L34: =L33+K34 -> 15473 | M34: =M33+L34 -> 18875 | N34: 0 | Y34: =IF(EXACT(A33,UPPER(A33)),"Elected","Excluded") -> Excluded | AC34: =SUMIFS($C$10:$C$284, $X$10:$X$284, AD34) -> 38280 | AD34: NON-P | AE34: Non-Party | AF34: =AG34+AK34 -> 6 | AG34: =COUNTIFS($X$10:$X$283, AD34,$B$10:$B$283,"F") -> 3 | AH34: =IFERROR(AG34/AF34,0) -> 0.5 | AI34: =COUNTIFS($X$10:$X$283, AD34,$B$10:$B$283,"F",$Z$10:$Z$283,"Elected") -> 0 | AJ34: =IFERROR(AI34/AF34,0) -> 0 | AK34: =COUNTIFS($X$10:$X$283, AD34,$B$10:$B$283,"M") -> 3 | AL34: =IFERROR(AK34/AF34,0) -> 0.5 | AM34: =COUNTIFS($X$10:$X$283, AD34,$B$10:$B$283,"M",$Z$10:$Z$283,"Elected") -> 1 | AN34: =IFERROR(AM34/AF34,0) -> 0.16666667
A35: Sheehan, Conor (LAB) | B35: M | C35: 2390 | D35: 14 | E35: 35 | F35: 41 | G35: 134 | H35: 332 | I35: 101 | J35: -3047 | K35: 0 | L35: 0 | M35: 0 | N35: 0 | X35: =LEFT(MID(A35,FIND("(",A35)+1,LEN(A35)),FIND(")",MID(A35,FIND("(",A35)+1,LEN(A35)))-1) -> LAB | Z35: =Y36 -> Excluded | AC35: =SUM(AC8:AC34) -> 79745 | AF35: =SUM(AF8:AF34) -> 15 | AG35: =SUM(AG8:AG34) -> 5 | AI35: =SUM(AI8:AI34) -> 0 | AK35: =SUM(AK8:AK34) -> 10 | AM35: =SUM(AM8:AM34) -> 1
C36: 1678 | D36: =D35+C35 -> 2404 | E36: =E35+D36 -> 2439 | F36: =F35+E36 -> 2480 | G36: =G35+F36 -> 2614 | H36: =H35+G36 -> 2946 | I36: =I35+H36 -> 3047 | J36: 0 | K36: 0 | L36: 0 | M36: 0 | N36: 0 | Y36: =IF(EXACT(A35,UPPER(A35)),"Elected","Excluded") -> Excluded
A37: Uunk, Gerben (PAW) | B37: M | C37: 758 | D37: 10 | E37: 20 | F37: -788 | G37: 0 | H37: 0 | I37: 0 | J37: 0 | K37: 0 | L37: 0 | M37: 0 | N37: 0 | X37: =LEFT(MID(A37,FIND("(",A37)+1,LEN(A37)),FIND(")",MID(A37,FIND("(",A37)+1,LEN(A37)))-1) -> PAW | Z37: =Y38 -> Excluded | AE37: Candidates: | AG37: =AG35+AK35 -> 15 | AH37: Total by Gender | AK37: Elected: | AL37: Male: | AM37: =AM35 -> 1
C38: 141 | D38: =D37+C37 -> 768 | E38: =E37+D38 -> 788 | F38: 0 | G38: 0 | H38: 0 | I38: 0 | J38: 0 | K38: 0 | L38: 0 | M38: 0 | N38: 0 | Y38: =IF(EXACT(A37,UPPER(A37)),"Elected","Excluded") -> Excluded | AE38: Total from Header: | AF38: =LEFT(MID(#REF!,FIND("(",#REF!)+1,LEN(#REF!)),FIND(")",MID(#REF!,FIND("(",#REF!)+1,LEN(#REF!)))-1) -> #REF! | AG38: =BL8 -> 0 | AH38: Total by Elected and excluded | AL38: Female: | AM38: =AI35 -> 0
A39: Non-transferable papers not effective | C39: 0 | D39: 121 | E39: 107 | F39: 210 | G39: 341 | H39: 304 | I39: 820 | J39: 545 | K39: 3005 | L39: 6209 | M39: 4897 | N39: 10906 | AL39: Total: | AM39: =SUM(AM37:AM38) -> 1
C40: 0 | D40: 121 | E40: =E39+D40 -> 228 | F40: =F39+E40 -> 438 | G40: =G39+F40 -> 779 | H40: =H39+G40 -> 1083 | I40: =I39+H40 -> 1903 | J40: =J39+I40 -> 2448 | K40: =K39+J40 -> 5453 | L40: =L39+K40 -> 11662 | ... N40: =N39+M40 -> 27465
A41: TOTALS: | C41: 79745 | D41: 79745 | E41: 79745 | F41: 79745 | G41: 79745 | H41: 79745 | I41: 79745 | J41: 79745 | K41: 79745 | L41: 79745 | M41: 79745 | N41: 79745
B44: No. of Seats | C44: Electorate | D44: Total Poll | E44: % Poll | F44: Invalid Ballot Papers | G44: % Invalid | H44: Total Valid Poll | I44: Total No. of Candidates | J44: No. of Women Candidates | K44: Women as % of Candidates
B45: 1 | C45: 157672 | D45: =H45+F45 -> 81668 | E45: =SUM(D45/C45*100) -> 51.796134 | F45: 1923 | G45: =SUM(F45/C45*100) -> 1.2196205 | H45: 79745 | I45: 15 | J45: 5 | K45: =SUM(J45/I45*100) -> 33.333333

Sheet General Statistics
E1: General Statistics
A2: Local Authority | B2: No. of Seats | C2: Electorate | D2: Total Poll | E2: % Poll | F2: Invalid Ballot Papers | G2: % Invalid | H2: Total Valid Poll | I2: Total No. of Candidates | J2: No. of Women Candidates | K2: Women as % of Candidates
A3: City Councils
A4: Limerick | B4: =Limerick!B45 -> 1 | C4: =Limerick!C45 -> 157672 | D4: =H4+F4 -> 81668 | E4: =SUM(D4/C4*100) -> 51.796134 | F4: =Limerick!F45 -> 1923 | G4: =SUM(F4/D4*100) -> 2.3546554 | H4: =Limerick!H45 -> 79745 | I4: 15 | J4: 5 | K4: =SUM(J4/I4*100) -> 33.333333

Sheet 1st Preferences
A2: City Councils | B2: Number of seats | C2: Total number of first preferences/ total valid poll | D2: Number of candidates nominated | E2: Number of first preferences | F2: % of all first preferences | G2: Number of seats obtained | H2: % of all seats obtained
A4: Fianna Fáil | B4: 1 | C4: =Limerick!AC35 -> 79745 | D4: =Limerick!AF8 -> 1 | E4: =Limerick!AC8 -> 11785 | F4: =SUM(E4/C4*100) -> 14.778356 | G4: 0 | H4: =SUM(G4/B4*100) -> 0
A5: Fine Gael | B5: 1 | C5: =Limerick!AC35 -> 79745 | D5: =Limerick!AF9 -> 1 | E5: =Limerick!AC9 -> 10190 | F5: =SUM(E5/C5*100) -> 12.778231 | G5: 0 | H5: =SUM(G5/B5*100) -> 0
A6: Sinn Féin | B6: 1 | C6: =Limerick!AC35 -> 79745 | D6: =Limerick!AF10 -> 1 | E6: =Limerick!AC10 -> 8331 | F6: =SUM(E6/C6*100) -> 10.44705 | G6: 0 | H6: =SUM(G6/B6*100) -> 0
A7: Aontú | B7: 1 | C7: =Limerick!AC35 -> 79745 | D7: =Limerick!AF16 -> 1 | E7: =Limerick!AC16 -> 2635 | F7: =SUM(E7/C7*100) -> 3.3042824 | G7: 0 | H7: =SUM(G7/B7*100) -> 0
A8: The Labour Party | B8: 1 | C8: =Limerick!AC35 -> 79745 | D8: =Limerick!AF11 -> 1 | E8: =Limerick!AC11 -> 2390 | F8: =SUM(E8/C8*100) -> 2.9970531 | G8: 0 | H8: =SUM(G8/B8*100) -> 0
A9: Social Democrats | B9: 1 | C9: =Limerick!AC35 -> 79745 | D9: =Limerick!AF12 -> 1 | E9: =Limerick!AC12 -> 2384 | F9: =SUM(E9/C9*100) -> 2.9895291 | G9: 0 | H9: =SUM(G9/B9*100) -> 0
A10: Green Party - Comhaontas Glas | B10: 1 | C10: =Limerick!AC35 -> 79745 | D10: =Limerick!AF13 -> 1 | E10: =Limerick!AC13 -> 2303 | F10: =SUM(E10/C10*100) -> 2.8879554 | G10: 0 | H10: =SUM(G10/B10*100) -> 0
A11: Party for Animal Welfare | B11: 1 | C11: =Limerick!AC35 -> 79745 | D11: =Limerick!AF32 -> 1 | E11: =Limerick!AC32 -> 758 | F11: =SUM(E11/C11*100) -> 0.95052981 | G11: 0 | H11: =SUM(G11/B11*100) -> 0
A12: People Before Profit / Solidarity | B12: 1 | C12: =Limerick!AC35 -> 79745 | D12: =Limerick!AF15 -> 1 | E12: =Limerick!AC15 -> 689 | F12: =SUM(E12/C12*100) -> 0.86400401 | G12: 0 | H12: =SUM(G12/B12*100) -> 0
A13: Non-Party | B13: 1 | C13: =Limerick!AC35 -> 79745 | D13: =Limerick!AF34 -> 6 | E13: =Limerick!AC34 -> 38280 | F13: =SUM(E13/C13*100) -> 48.00301 | G13: 1 | H13: =SUM(G13/B13*100) -> 100
